BEGIN:VCALENDAR
VERSION:2.0
PRODID:-//The Circle for Human Sustainability - ECPv6.15.20//NONSGML v1.0//EN
CALSCALE:GREGORIAN
METHOD:PUBLISH
X-WR-CALNAME:The Circle for Human Sustainability
X-ORIGINAL-URL:https://tchs-global.org
X-WR-CALDESC:Events for The Circle for Human Sustainability
REFRESH-INTERVAL;VALUE=DURATION:PT1H
X-Robots-Tag:noindex
X-PUBLISHED-TTL:PT1H
BEGIN:VTIMEZONE
TZID:Asia/Singapore
BEGIN:STANDARD
TZOFFSETFROM:+0800
TZOFFSETTO:+0800
TZNAME:+08
DTSTART:20240101T000000
END:STANDARD
END:VTIMEZONE
BEGIN:VEVENT
DTSTART;TZID=Asia/Singapore:20250525T090000
DTEND;TZID=Asia/Singapore:20250525T120000
DTSTAMP:20260420T053151
CREATED:20250131T052829Z
LAST-MODIFIED:20250527T165720Z
UID:4319-1748163600-1748174400@tchs-global.org
SUMMARY:Down to Earth - Inauguration of Singapore's First Permaculture Learning Centre
DESCRIPTION:Let’s go Down To Earth on 25 May 2025 (Sunday)\, 9 a.m. to 12 p.m. to inaugurate Singapore’s First Permaculture Learning Centre\nat the void deck of Blk 785\, Yishun Avenue 2 (760785).\nWe will have a workshop on how to cultivate soil and community the permaculture way.\nBesides this\, help us to paint our eco-friendly fencing and entrance\, and\nmake history for our community!
URL:https://tchs-global.org/event/down-to-earth-25-may-2025/
LOCATION:Down to Earth\, 785 Yishun Avenue 2\, 760785\, Singapore
ATTACH;FMTTYPE=image/jpeg:https://tchs-global.org/wp-content/uploads/2025/01/Down-to-Earth-poster.jpg
ORGANIZER;CN="Nee Soon South Zone 'B' Residents' Network":MAILTO:neesoonsouthcommunityclub@gmail.com
END:VEVENT
END:VCALENDAR