BEGIN:VCALENDAR
VERSION:2.0
PRODID:-//The Circle for Human Sustainability - ECPv6.15.20//NONSGML v1.0//EN
CALSCALE:GREGORIAN
METHOD:PUBLISH
X-WR-CALNAME:The Circle for Human Sustainability
X-ORIGINAL-URL:https://tchs-global.org
X-WR-CALDESC:Events for The Circle for Human Sustainability
REFRESH-INTERVAL;VALUE=DURATION:PT1H
X-Robots-Tag:noindex
X-PUBLISHED-TTL:PT1H
BEGIN:VTIMEZONE
TZID:Asia/Singapore
BEGIN:STANDARD
TZOFFSETFROM:+0800
TZOFFSETTO:+0800
TZNAME:+08
DTSTART:20240101T000000
END:STANDARD
END:VTIMEZONE
BEGIN:VEVENT
DTSTART;TZID=Asia/Singapore:20250606T143000
DTEND;TZID=Asia/Singapore:20250607T160000
DTSTAMP:20260420T070750
CREATED:20250130T155352Z
LAST-MODIFIED:20250609T155235Z
UID:4347-1749220200-1749312000@tchs-global.org
SUMMARY:Resourcity - A Strategic Board Game on Building Resilience (6 & 7 June 2025)
DESCRIPTION:The city needs your help!\nAs climate issues and overconsumption worsen around the world\, countries have started to keep resources to themselves. Supplies into the city are drastically reduced\, which is a major problem for the city that relies heavily on imports to meet daily needs. \nWorking together as citizens of the city\, come and figure out how to make your city resilient and self-sustaining on – \n6 June 2025\, 2:30 to 4:30 p.m.\n7 June 2025\, 2:00 to 4:00 p.m.\nat the \nSingapore Sustainability Academy\, SEAS Classroom\n180 Kitchener Rd\, #06-10\, Singapore 208539\nAdmission is free. \nREGISTER for 6 June 2025 HERE\nREGISTER for 7 June 2025 HERE\n  \nThis event is organised by
URL:https://tchs-global.org/event/resourcity-6-7-june-2025-2/
LOCATION:Singapore Sustainability Academy\, 180 Kitchener Road #06-10 City Square Mall\, Singapore\, 208539\, Singapore
ATTACH;FMTTYPE=image/jpeg:https://tchs-global.org/wp-content/uploads/2025/06/TCHS-Resourcity-banner-72dpi.jpg
END:VEVENT
END:VCALENDAR