BEGIN:VCALENDAR
VERSION:2.0
PRODID:-//The Circle for Human Sustainability - ECPv6.15.20//NONSGML v1.0//EN
CALSCALE:GREGORIAN
METHOD:PUBLISH
X-WR-CALNAME:The Circle for Human Sustainability
X-ORIGINAL-URL:https://tchs-global.org
X-WR-CALDESC:Events for The Circle for Human Sustainability
REFRESH-INTERVAL;VALUE=DURATION:PT1H
X-Robots-Tag:noindex
X-PUBLISHED-TTL:PT1H
BEGIN:VTIMEZONE
TZID:Asia/Singapore
BEGIN:STANDARD
TZOFFSETFROM:+0800
TZOFFSETTO:+0800
TZNAME:+08
DTSTART:20250101T000000
END:STANDARD
END:VTIMEZONE
BEGIN:VEVENT
DTSTART;TZID=Asia/Singapore:20260405T090000
DTEND;TZID=Asia/Singapore:20260405T110000
DTSTAMP:20260420T070550
CREATED:20260210T104742Z
LAST-MODIFIED:20260410T150427Z
UID:10000170-1775379600-1775386800@tchs-global.org
SUMMARY:Urban Farm Experience - Easter Sunday Family Connection (M.a.D. Garden @Winstedt)
DESCRIPTION:As part of our endeavour to build food resilience and establish a social economy\, we are collaborating with Mindful Space and Good Branchez supporting the  								\n				\n				\n				\n					Urban Farm Experience & Pop-up Playground\n\n				\n				\n				\n				\n									on 15 September 2024\, 9:30 a.m. to 11:00 a.m. at 10 Winstedt Rd\, Singapore 227977(adjacent to The Malayan Council Restaurant Entrance). 								\n				\n					\n				\n		\n					\n		\n				\n				\n					Discover				\n				\n				\n				\n									how food is grown in a permaculture garden\,								\n				\n				\n		\n				\n				\n					Experience				\n				\n				\n				\n									a harvest								\n				\n				\n		\n				\n				\n					Taste				\n				\n				\n				\n									food and drink made from garden produce!
URL:https://tchs-global.org/event/urban-farm-experience-an-easter-sunday-connection/
LOCATION:M.a.D. Garden @Winstedt\, 10 Winstedt Road\, 227977\, Singapore
ATTACH;FMTTYPE=image/jpeg:https://tchs-global.org/wp-content/uploads/2026/02/Easter-Sunday-Family-Connection-1.jpg
GEO:1°18'36.2"N;103°50'30.3"E
X-APPLE-STRUCTURED-LOCATION;VALUE=URI;X-ADDRESS=M.a.D. Garden @Winstedt 10 Winstedt Road 227977 Singapore;X-APPLE-RADIUS=500;X-TITLE=10 Winstedt Road:geo:103°50'30.3"E,1°18'36.2"N
END:VEVENT
BEGIN:VEVENT
DTSTART;TZID=Asia/Singapore:20260405T090000
DTEND;TZID=Asia/Singapore:20260405T150000
DTSTAMP:20260420T070550
CREATED:20260304T071019Z
LAST-MODIFIED:20260410T150451Z
UID:10000178-1775379600-1775401200@tchs-global.org
SUMMARY:Winstedt Day Out
DESCRIPTION:As part of our endeavour to build food resilience and establish a social economy\, we are collaborating with Mindful Space and Good Branchez supporting the  								\n				\n				\n				\n					Urban Farm Experience & Pop-up Playground\n\n				\n				\n				\n				\n									on 15 September 2024\, 9:30 a.m. to 11:00 a.m. at 10 Winstedt Rd\, Singapore 227977(adjacent to The Malayan Council Restaurant Entrance). 								\n				\n					\n				\n		\n					\n		\n				\n				\n					Discover				\n				\n				\n				\n									how food is grown in a permaculture garden\,								\n				\n				\n		\n				\n				\n					Experience				\n				\n				\n				\n									a harvest								\n				\n				\n		\n				\n				\n					Taste				\n				\n				\n				\n									food and drink made from garden produce!
URL:https://tchs-global.org/event/winstedt-day-out-5-apr-2026/
LOCATION:La Salle College of the Arts (Winstedt Campus)\, 9 Winstedt Road\, 227976\, Singapore
ATTACH;FMTTYPE=image/jpeg:https://tchs-global.org/wp-content/uploads/2026/04/WDO-Header.jpg
END:VEVENT
BEGIN:VEVENT
DTSTART;TZID=Asia/Singapore:20260412T093000
DTEND;TZID=Asia/Singapore:20260412T190000
DTSTAMP:20260420T070550
CREATED:20260308T012917Z
LAST-MODIFIED:20260415T031419Z
UID:10000175-1775986200-1776020400@tchs-global.org
SUMMARY:Urban Rooftop Farm - wethefarm (12 Apr 2026)
DESCRIPTION:As part of our endeavour to build food resilience and establish a social economy\, we are collaborating with Mindful Space and Good Branchez supporting the  								\n				\n				\n				\n					Urban Farm Experience & Pop-up Playground\n\n				\n				\n				\n				\n									on 15 September 2024\, 9:30 a.m. to 11:00 a.m. at 10 Winstedt Rd\, Singapore 227977(adjacent to The Malayan Council Restaurant Entrance). 								\n				\n					\n				\n		\n					\n		\n				\n				\n					Discover				\n				\n				\n				\n									how food is grown in a permaculture garden\,								\n				\n				\n		\n				\n				\n					Experience				\n				\n				\n				\n									a harvest								\n				\n				\n		\n				\n				\n					Taste				\n				\n				\n				\n									food and drink made from garden produce!
URL:https://tchs-global.org/event/urban-rooftop-farm-wethefarm-12-apr-2026/
LOCATION:Beauty World Centre\, 144 Upper Bukit Timah Road\, 588177\, Singapore
ATTACH;FMTTYPE=image/jpeg:https://tchs-global.org/wp-content/uploads/2024/06/Urban-Rooftop-Farm-wethefarm-cover.jpg
GEO:1.342311;103.7763425
X-APPLE-STRUCTURED-LOCATION;VALUE=URI;X-ADDRESS=Beauty World Centre 144 Upper Bukit Timah Road 588177 Singapore;X-APPLE-RADIUS=500;X-TITLE=144 Upper Bukit Timah Road:geo:103.7763425,1.342311
END:VEVENT
BEGIN:VEVENT
DTSTART;TZID=Asia/Singapore:20260418T093000
DTEND;TZID=Asia/Singapore:20260419T190000
DTSTAMP:20260420T070550
CREATED:20260308T013237Z
LAST-MODIFIED:20260419T102255Z
UID:10000176-1776504600-1776625200@tchs-global.org
SUMMARY:Urban Rooftop Farm - wethefarm (18 & 19 Apr 2026)
DESCRIPTION:As part of our endeavour to build food resilience and establish a social economy\, we are collaborating with Mindful Space and Good Branchez supporting the  								\n				\n				\n				\n					Urban Farm Experience & Pop-up Playground\n\n				\n				\n				\n				\n									on 15 September 2024\, 9:30 a.m. to 11:00 a.m. at 10 Winstedt Rd\, Singapore 227977(adjacent to The Malayan Council Restaurant Entrance). 								\n				\n					\n				\n		\n					\n		\n				\n				\n					Discover				\n				\n				\n				\n									how food is grown in a permaculture garden\,								\n				\n				\n		\n				\n				\n					Experience				\n				\n				\n				\n									a harvest								\n				\n				\n		\n				\n				\n					Taste				\n				\n				\n				\n									food and drink made from garden produce!
URL:https://tchs-global.org/event/urban-rooftop-farm-wethefarm-18-19-apr-2026/
LOCATION:Beauty World Centre\, 144 Upper Bukit Timah Road\, 588177\, Singapore
ATTACH;FMTTYPE=image/jpeg:https://tchs-global.org/wp-content/uploads/2024/06/Urban-Rooftop-Farm-wethefarm-cover.jpg
GEO:1.342311;103.7763425
X-APPLE-STRUCTURED-LOCATION;VALUE=URI;X-ADDRESS=Beauty World Centre 144 Upper Bukit Timah Road 588177 Singapore;X-APPLE-RADIUS=500;X-TITLE=144 Upper Bukit Timah Road:geo:103.7763425,1.342311
END:VEVENT
BEGIN:VEVENT
DTSTART;TZID=Asia/Singapore:20260422T150000
DTEND;TZID=Asia/Singapore:20260422T170000
DTSTAMP:20260420T070550
CREATED:20260308T013411Z
LAST-MODIFIED:20260415T055425Z
UID:10000180-1776870000-1776877200@tchs-global.org
SUMMARY:ResourCity - A Strategic Board Game on Building Resilience (22 April 2026)
DESCRIPTION:As part of our endeavour to build food resilience and establish a social economy\, we are collaborating with Mindful Space and Good Branchez supporting the  								\n				\n				\n				\n					Urban Farm Experience & Pop-up Playground\n\n				\n				\n				\n				\n									on 15 September 2024\, 9:30 a.m. to 11:00 a.m. at 10 Winstedt Rd\, Singapore 227977(adjacent to The Malayan Council Restaurant Entrance). 								\n				\n					\n				\n		\n					\n		\n				\n				\n					Discover				\n				\n				\n				\n									how food is grown in a permaculture garden\,								\n				\n				\n		\n				\n				\n					Experience				\n				\n				\n				\n									a harvest								\n				\n				\n		\n				\n				\n					Taste				\n				\n				\n				\n									food and drink made from garden produce!
URL:https://tchs-global.org/event/resourcity-a-strategic-board-game-on-building-resilience-22-april-2026/
LOCATION:La Salle College of the Arts (McNally Campus)\, 1 McNally Street\, 187940\, Singapore
CATEGORIES:Upcoming Event
ATTACH;FMTTYPE=image/jpeg:https://tchs-global.org/wp-content/uploads/2025/06/TCHS-Resourcity-banner-72dpi.jpg
END:VEVENT
BEGIN:VEVENT
DTSTART;TZID=Asia/Singapore:20260426T093000
DTEND;TZID=Asia/Singapore:20260426T190000
DTSTAMP:20260420T070550
CREATED:20260308T013607Z
LAST-MODIFIED:20260308T013607Z
UID:10000177-1777195800-1777230000@tchs-global.org
SUMMARY:Urban Rooftop Farm - wethefarm (26 Apr 2026)
DESCRIPTION:As part of our endeavour to build food resilience and establish a social economy\, we are collaborating with Mindful Space and Good Branchez supporting the  								\n				\n				\n				\n					Urban Farm Experience & Pop-up Playground\n\n				\n				\n				\n				\n									on 15 September 2024\, 9:30 a.m. to 11:00 a.m. at 10 Winstedt Rd\, Singapore 227977(adjacent to The Malayan Council Restaurant Entrance). 								\n				\n					\n				\n		\n					\n		\n				\n				\n					Discover				\n				\n				\n				\n									how food is grown in a permaculture garden\,								\n				\n				\n		\n				\n				\n					Experience				\n				\n				\n				\n									a harvest								\n				\n				\n		\n				\n				\n					Taste				\n				\n				\n				\n									food and drink made from garden produce!
URL:https://tchs-global.org/event/urban-rooftop-farm-wethefarm-26-apr-2026/
LOCATION:Beauty World Centre\, 144 Upper Bukit Timah Road\, 588177\, Singapore
CATEGORIES:Upcoming Event
ATTACH;FMTTYPE=image/jpeg:https://tchs-global.org/wp-content/uploads/2024/06/Urban-Rooftop-Farm-wethefarm-cover.jpg
GEO:1.342311;103.7763425
X-APPLE-STRUCTURED-LOCATION;VALUE=URI;X-ADDRESS=Beauty World Centre 144 Upper Bukit Timah Road 588177 Singapore;X-APPLE-RADIUS=500;X-TITLE=144 Upper Bukit Timah Road:geo:103.7763425,1.342311
END:VEVENT
BEGIN:VEVENT
DTSTART;TZID=Asia/Singapore:20260501T080000
DTEND;TZID=Asia/Singapore:20260505T200000
DTSTAMP:20260420T070550
CREATED:20260308T014018Z
LAST-MODIFIED:20260416T163630Z
UID:10000179-1777622400-1778011200@tchs-global.org
SUMMARY:Permaculture+ Discovery - Learning Journey at Yogyakarta (1 to 5 May 2026)
DESCRIPTION:As part of our endeavour to build food resilience and establish a social economy\, we are collaborating with Mindful Space and Good Branchez supporting the  								\n				\n				\n				\n					Urban Farm Experience & Pop-up Playground\n\n				\n				\n				\n				\n									on 15 September 2024\, 9:30 a.m. to 11:00 a.m. at 10 Winstedt Rd\, Singapore 227977(adjacent to The Malayan Council Restaurant Entrance). 								\n				\n					\n				\n		\n					\n		\n				\n				\n					Discover				\n				\n				\n				\n									how food is grown in a permaculture garden\,								\n				\n				\n		\n				\n				\n					Experience				\n				\n				\n				\n									a harvest								\n				\n				\n		\n				\n				\n					Taste				\n				\n				\n				\n									food and drink made from garden produce!
URL:https://tchs-global.org/event/permaculture-discovery-1-to-5-may-2026/
LOCATION:Omah Lor Projects\, Yogyakarta\, RT 007/RW 021\, Gunungsari\, Candibinangun\, Kec. Pakem\, Kabupaten Sleman\, Daerah Istimewa Yogyakarta\, 55582\, Indonesia
CATEGORIES:Upcoming Event
ATTACH;FMTTYPE=image/jpeg:https://tchs-global.org/wp-content/uploads/2026/04/202605-Omah-Lor-banner.jpg
END:VEVENT
BEGIN:VEVENT
DTSTART;TZID=Asia/Singapore:20260622T090000
DTEND;TZID=Asia/Singapore:20260726T113000
DTSTAMP:20260420T070550
CREATED:20260309T013719Z
LAST-MODIFIED:20260415T031905Z
UID:10000169-1782118800-1785065400@tchs-global.org
SUMMARY:Permaculture Design Certificate (PDC) Course – 22 June to 26 July 2026
DESCRIPTION:As part of our endeavour to build food resilience and establish a social economy\, we are collaborating with Mindful Space and Good Branchez supporting the  								\n				\n				\n				\n					Urban Farm Experience & Pop-up Playground\n\n				\n				\n				\n				\n									on 15 September 2024\, 9:30 a.m. to 11:00 a.m. at 10 Winstedt Rd\, Singapore 227977(adjacent to The Malayan Council Restaurant Entrance). 								\n				\n					\n				\n		\n					\n		\n				\n				\n					Discover				\n				\n				\n				\n									how food is grown in a permaculture garden\,								\n				\n				\n		\n				\n				\n					Experience				\n				\n				\n				\n									a harvest								\n				\n				\n		\n				\n				\n					Taste				\n				\n				\n				\n									food and drink made from garden produce!
URL:https://tchs-global.org/event/permaculture-design-certificate-pdc-course-22-june-to-26-july-2026/
LOCATION:Tirtha Quddus\, 5579 Jalan Padang Ragut\, Kampung Janda Baik\, Pahang\, Malaysia
CATEGORIES:Upcoming Event
ATTACH;FMTTYPE=image/jpeg:https://tchs-global.org/wp-content/uploads/2026/02/PDC2026-flyer-header.jpg
END:VEVENT
END:VCALENDAR