BEGIN:VCALENDAR
VERSION:2.0
PRODID:-//The Circle for Human Sustainability - ECPv6.15.20//NONSGML v1.0//EN
CALSCALE:GREGORIAN
METHOD:PUBLISH
X-WR-CALNAME:The Circle for Human Sustainability
X-ORIGINAL-URL:https://tchs-global.org
X-WR-CALDESC:Events for The Circle for Human Sustainability
REFRESH-INTERVAL;VALUE=DURATION:PT1H
X-Robots-Tag:noindex
X-PUBLISHED-TTL:PT1H
BEGIN:VTIMEZONE
TZID:Asia/Singapore
BEGIN:STANDARD
TZOFFSETFROM:+0800
TZOFFSETTO:+0800
TZNAME:+08
DTSTART:20230101T000000
END:STANDARD
END:VTIMEZONE
BEGIN:VEVENT
DTSTART;TZID=Asia/Singapore:20240623T093000
DTEND;TZID=Asia/Singapore:20240623T183000
DTSTAMP:20260425T082345
CREATED:20240531T064241Z
LAST-MODIFIED:20240823T074522Z
UID:10000029-1719135000-1719167400@tchs-global.org
SUMMARY:Urban Rooftop Farm - wethefarm
DESCRIPTION:Would you like to do your bit for food security in Singapore? \nRoll up your sleeves and join us on \nSunday\, 23 June 2024\n9:30 a.m. – 11:30 a.m.*\nand/or\n4:30 p.m. – 6:30 p.m.*\n*(you can come any time within this period) \nto work on the urban farm at Level 5 of Beauty World Centre. \nYou will be meeting urban farmers Tan Jing Xiang and Nicholas Chin\, and helping in soil mixing\, planting and composting. \nYou can also bring your veggie scraps and fruit peel for composting (but no cooked items or any animal products\, please).
URL:https://tchs-global.org/event/urban-rooftop-farm-wethefarm-230624/
LOCATION:Beauty World Centre\, 144 Upper Bukit Timah Road\, 588177\, Singapore
ATTACH;FMTTYPE=image/jpeg:https://tchs-global.org/wp-content/uploads/2024/06/Urban-Rooftop-Farm-wethefarm-cover.jpg
GEO:1.342311;103.7763425
X-APPLE-STRUCTURED-LOCATION;VALUE=URI;X-ADDRESS=Beauty World Centre 144 Upper Bukit Timah Road 588177 Singapore;X-APPLE-RADIUS=500;X-TITLE=144 Upper Bukit Timah Road:geo:103.7763425,1.342311
END:VEVENT
BEGIN:VEVENT
DTSTART;TZID=Asia/Singapore:20240622T093000
DTEND;TZID=Asia/Singapore:20240622T183000
DTSTAMP:20260425T082345
CREATED:20240531T064135Z
LAST-MODIFIED:20240823T074527Z
UID:10000028-1719048600-1719081000@tchs-global.org
SUMMARY:Urban Rooftop Farm - wethefarm
DESCRIPTION:Would you like to do your bit for food security in Singapore? \nRoll up your sleeves and join us on \nSaturday\, 22 June 2024\n9:30 a.m. – 11:30 a.m.*\nand/or\n4:30 p.m. – 6:30 p.m.*\n*(you can come any time within this period) \nto work on the urban farm at Level 5 of Beauty World Centre. \nYou will be meeting urban farmers Tan Jing Xiang and Nicholas Chin\, and helping in soil mixing\, planting and composting. \nYou can also bring your veggie scraps and fruit peel for composting (but no cooked items or any animal products\, please).
URL:https://tchs-global.org/event/urban-rooftop-farm-wethefarm-220624/
LOCATION:Beauty World Centre\, 144 Upper Bukit Timah Road\, 588177\, Singapore
ATTACH;FMTTYPE=image/jpeg:https://tchs-global.org/wp-content/uploads/2024/06/Urban-Rooftop-Farm-wethefarm-cover.jpg
GEO:1.342311;103.7763425
X-APPLE-STRUCTURED-LOCATION;VALUE=URI;X-ADDRESS=Beauty World Centre 144 Upper Bukit Timah Road 588177 Singapore;X-APPLE-RADIUS=500;X-TITLE=144 Upper Bukit Timah Road:geo:103.7763425,1.342311
END:VEVENT
BEGIN:VEVENT
DTSTART;TZID=Asia/Singapore:20240609T093000
DTEND;TZID=Asia/Singapore:20240609T183000
DTSTAMP:20260425T082345
CREATED:20240531T063835Z
LAST-MODIFIED:20240823T074535Z
UID:10000027-1717925400-1717957800@tchs-global.org
SUMMARY:Urban Rooftop Farm - wethefarm
DESCRIPTION:Would you like to do your bit for food security in Singapore? \nRoll up your sleeves and join us on \nSunday\, 9 June 2024\n9:30 a.m. – 11:30 a.m.*\nand/or\n4:30 p.m. – 6:30 p.m.*\n*(you can come any time within this period) \nto work on the urban farm at Level 5 of Beauty World Centre. \nYou will be meeting urban farmers Tan Jing Xiang and Nicholas Chin\, and helping in soil mixing\, planting and composting. \nYou can also bring your veggie scraps and fruit peel for composting (but no cooked items or any animal products\, please).
URL:https://tchs-global.org/event/urban-rooftop-farm-wethefarm-090624/
LOCATION:Beauty World Centre\, 144 Upper Bukit Timah Road\, 588177\, Singapore
ATTACH;FMTTYPE=image/jpeg:https://tchs-global.org/wp-content/uploads/2024/06/Urban-Rooftop-Farm-wethefarm-cover.jpg
GEO:1.342311;103.7763425
X-APPLE-STRUCTURED-LOCATION;VALUE=URI;X-ADDRESS=Beauty World Centre 144 Upper Bukit Timah Road 588177 Singapore;X-APPLE-RADIUS=500;X-TITLE=144 Upper Bukit Timah Road:geo:103.7763425,1.342311
END:VEVENT
BEGIN:VEVENT
DTSTART;TZID=Asia/Singapore:20240608T093000
DTEND;TZID=Asia/Singapore:20240608T183000
DTSTAMP:20260425T082345
CREATED:20240524T092546Z
LAST-MODIFIED:20240823T074615Z
UID:10000026-1717839000-1717871400@tchs-global.org
SUMMARY:Urban Rooftop Farm - wethefarm
DESCRIPTION:Would you like to do your bit for food security in Singapore? \nRoll up your sleeves and join us on \nSaturday\, 8 June 2024\n9:30 a.m. – 11:30 a.m.*\nand/or\n4:30 p.m. – 6:30 p.m.*\n*(you can come any time within this period) \nto work on the urban farm at Level 5 of Beauty World Centre. \nYou will be meeting urban farmers Tan Jing Xiang and Nicholas Chin\, and helping in soil mixing\, planting and composting. \nYou can also bring your veggie scraps and fruit peel for composting (but no cooked items or any animal products\, please).
URL:https://tchs-global.org/event/urban-rooftop-farm-wethefarm-080624/
LOCATION:Beauty World Centre\, 144 Upper Bukit Timah Road\, 588177\, Singapore
ATTACH;FMTTYPE=image/jpeg:https://tchs-global.org/wp-content/uploads/2024/06/Urban-Rooftop-Farm-wethefarm-cover.jpg
GEO:1.342311;103.7763425
X-APPLE-STRUCTURED-LOCATION;VALUE=URI;X-ADDRESS=Beauty World Centre 144 Upper Bukit Timah Road 588177 Singapore;X-APPLE-RADIUS=500;X-TITLE=144 Upper Bukit Timah Road:geo:103.7763425,1.342311
END:VEVENT
BEGIN:VEVENT
DTSTART;TZID=Asia/Singapore:20240519T093000
DTEND;TZID=Asia/Singapore:20240519T183000
DTSTAMP:20260425T082345
CREATED:20240524T092138Z
LAST-MODIFIED:20240823T074620Z
UID:10000025-1716111000-1716143400@tchs-global.org
SUMMARY:Urban Rooftop Farm - wethefarm
DESCRIPTION:Would you like to do your bit for food security in Singapore? \nRoll up your sleeves and join us on \nSunday\, 19 May 2024\n9:30 a.m. – 11:30 a.m.*\nand/or\n4:30 p.m. – 6:30 p.m.*\n*(you can come any time within this period) \nto work on the urban farm at Level 5 of Beauty World Centre. \nYou will be meeting urban farmers Tan Jing Xiang and Nicholas Chin\, and helping in soil mixing\, planting and composting. \nYou can also bring your veggie scraps and fruit peel for composting (but no cooked items or any animal products\, please).
URL:https://tchs-global.org/event/urban-rooftop-farm-wethefarm-190524/
LOCATION:Beauty World Centre\, 144 Upper Bukit Timah Road\, 588177\, Singapore
ATTACH;FMTTYPE=image/jpeg:https://tchs-global.org/wp-content/uploads/2024/06/Urban-Rooftop-Farm-wethefarm-cover.jpg
GEO:1.342311;103.7763425
X-APPLE-STRUCTURED-LOCATION;VALUE=URI;X-ADDRESS=Beauty World Centre 144 Upper Bukit Timah Road 588177 Singapore;X-APPLE-RADIUS=500;X-TITLE=144 Upper Bukit Timah Road:geo:103.7763425,1.342311
END:VEVENT
BEGIN:VEVENT
DTSTART;TZID=Asia/Singapore:20240505T090000
DTEND;TZID=Asia/Singapore:20240505T183000
DTSTAMP:20260425T082345
CREATED:20240524T091734Z
LAST-MODIFIED:20240823T074626Z
UID:10000024-1714899600-1714933800@tchs-global.org
SUMMARY:Urban Rooftop Farm - wethefarm
DESCRIPTION:Would you like to do your bit for food security in Singapore? \nRoll up your sleeves and join us on \nSunday\, 5 May 2024\n9:00 a.m. – 11:30 a.m.*\nand/or\n4:30 p.m. – 6:30 p.m.*\n*(you can come any time within this period) \nto work on the urban farm at Level 5 of Beauty World Centre. \nYou will be meeting urban farmers Tan Jing Xiang and Nicholas Chin\, and helping in soil mixing\, planting and composting. \nYou can also bring your veggie scraps and fruit peel for composting (but no cooked items or any animal products\, please).
URL:https://tchs-global.org/event/urban-rooftop-farm-wethefarm-050524/
LOCATION:Beauty World Centre\, 144 Upper Bukit Timah Road\, 588177\, Singapore
ATTACH;FMTTYPE=image/jpeg:https://tchs-global.org/wp-content/uploads/2024/06/Urban-Rooftop-Farm-wethefarm-cover.jpg
GEO:1.342311;103.7763425
X-APPLE-STRUCTURED-LOCATION;VALUE=URI;X-ADDRESS=Beauty World Centre 144 Upper Bukit Timah Road 588177 Singapore;X-APPLE-RADIUS=500;X-TITLE=144 Upper Bukit Timah Road:geo:103.7763425,1.342311
END:VEVENT
BEGIN:VEVENT
DTSTART;TZID=Asia/Singapore:20240504T090000
DTEND;TZID=Asia/Singapore:20240504T183000
DTSTAMP:20260425T082345
CREATED:20240524T091423Z
LAST-MODIFIED:20240823T074633Z
UID:10000023-1714813200-1714847400@tchs-global.org
SUMMARY:Urban Rooftop Farm - wethefarm
DESCRIPTION:Would you like to do your bit for food security in Singapore? \nRoll up your sleeves and join us on \nSaturday\, 4 May 2024\n9:00 a.m. – 11:30 a.m.*\nand/or\n4:30 p.m. – 6:30 p.m.*\n*(you can come any time within this period) \nto work on the urban farm at Level 5 of Beauty World Centre. \nYou will be meeting urban farmers Tan Jing Xiang and Nicholas Chin\, and helping in soil mixing\, planting and composting. \nYou can also bring your veggie scraps and fruit peel for composting (but no cooked items or any animal products\, please).
URL:https://tchs-global.org/event/urban-rooftop-farm-wethefarm-040524/
LOCATION:Beauty World Centre\, 144 Upper Bukit Timah Road\, 588177\, Singapore
ATTACH;FMTTYPE=image/jpeg:https://tchs-global.org/wp-content/uploads/2024/06/Urban-Rooftop-Farm-wethefarm-cover.jpg
GEO:1.342311;103.7763425
X-APPLE-STRUCTURED-LOCATION;VALUE=URI;X-ADDRESS=Beauty World Centre 144 Upper Bukit Timah Road 588177 Singapore;X-APPLE-RADIUS=500;X-TITLE=144 Upper Bukit Timah Road:geo:103.7763425,1.342311
END:VEVENT
BEGIN:VEVENT
DTSTART;TZID=Asia/Singapore:20240428T093000
DTEND;TZID=Asia/Singapore:20240428T113000
DTSTAMP:20260425T082345
CREATED:20240524T090841Z
LAST-MODIFIED:20240812T032225Z
UID:10000022-1714296600-1714303800@tchs-global.org
SUMMARY:Urban Farm Experience & Pop-Up Playground (M.a.D. Garden @Winstedt)
DESCRIPTION:As part of our endeavour to build food resilience and establish a social economy\, we are collaborating with Mindful Space and Good Branchez supporting the  \n\nUrban Farm Experience & Pop-up Playground\n\n		on 28 April 2024\, 9:30 a.m. to 11:30 a.m at 10 Winstedt Rd\, Singapore 227977\n(adjacent to The Malayan Council Restaurant Entrance).		 \nDiscover\n		how food is grown in a permaculture garden\,		 \nExperience\n		a harvest		 \nTaste\nfood and drink made from garden produce!
URL:https://tchs-global.org/event/urban-farm-experience-pop-up-playground-m-a-d-garden-winstedt-280424/
LOCATION:Beauty World Centre\, 144 Upper Bukit Timah Road\, 588177\, Singapore
ATTACH;FMTTYPE=image/jpeg:https://tchs-global.org/wp-content/uploads/2024/05/MaD_Flyer-Header.jpg
GEO:1.342311;103.7763425
X-APPLE-STRUCTURED-LOCATION;VALUE=URI;X-ADDRESS=Beauty World Centre 144 Upper Bukit Timah Road 588177 Singapore;X-APPLE-RADIUS=500;X-TITLE=144 Upper Bukit Timah Road:geo:103.7763425,1.342311
END:VEVENT
BEGIN:VEVENT
DTSTART;TZID=Asia/Singapore:20240421T090000
DTEND;TZID=Asia/Singapore:20240421T183000
DTSTAMP:20260425T082345
CREATED:20240524T090527Z
LAST-MODIFIED:20240823T074642Z
UID:10000021-1713690000-1713724200@tchs-global.org
SUMMARY:Urban Rooftop Farm - wethefarm
DESCRIPTION:Would you like to do your bit for food security in Singapore? \nRoll up your sleeves and join us on \nSunday\, 21 April 2024\n9:00 a.m. – 11:30 a.m.*\nand/or\n4:30 p.m. – 6:30 p.m.*\n*(you can come any time within this period) \nto work on the urban farm at Level 5 of Beauty World Centre. \nYou will be meeting urban farmers Tan Jing Xiang and Nicholas Chin\, and helping in soil mixing\, planting and composting. \nYou can also bring your veggie scraps and fruit peel for composting (but no cooked items or any animal products\, please).
URL:https://tchs-global.org/event/urban-rooftop-farm-wethefarm-210424/
LOCATION:Beauty World Centre\, 144 Upper Bukit Timah Road\, 588177\, Singapore
ATTACH;FMTTYPE=image/jpeg:https://tchs-global.org/wp-content/uploads/2024/06/Urban-Rooftop-Farm-wethefarm-cover.jpg
GEO:1.342311;103.7763425
X-APPLE-STRUCTURED-LOCATION;VALUE=URI;X-ADDRESS=Beauty World Centre 144 Upper Bukit Timah Road 588177 Singapore;X-APPLE-RADIUS=500;X-TITLE=144 Upper Bukit Timah Road:geo:103.7763425,1.342311
END:VEVENT
BEGIN:VEVENT
DTSTART;TZID=Asia/Singapore:20240420T090000
DTEND;TZID=Asia/Singapore:20240420T183000
DTSTAMP:20260425T082345
CREATED:20240524T090249Z
LAST-MODIFIED:20240823T074647Z
UID:10000020-1713603600-1713637800@tchs-global.org
SUMMARY:Urban Rooftop Farm - wethefarm
DESCRIPTION:Would you like to do your bit for food security in Singapore? \nRoll up your sleeves and join us on \nSaturday\, 20 April 2024\n9:00 a.m. – 11:30 a.m.*\nand/or\n4:30 p.m. – 6:30 p.m.*\n*(you can come any time within this period) \nto work on the urban farm at Level 5 of Beauty World Centre. \nYou will be meeting urban farmers Tan Jing Xiang and Nicholas Chin\, and helping in soil mixing\, planting and composting. \nYou can also bring your veggie scraps and fruit peel for composting (but no cooked items or any animal products\, please).
URL:https://tchs-global.org/event/urban-rooftop-farm-wethefarm-200424/
LOCATION:Beauty World Centre\, 144 Upper Bukit Timah Road\, 588177\, Singapore
ATTACH;FMTTYPE=image/jpeg:https://tchs-global.org/wp-content/uploads/2024/06/Urban-Rooftop-Farm-wethefarm-cover.jpg
GEO:1.342311;103.7763425
X-APPLE-STRUCTURED-LOCATION;VALUE=URI;X-ADDRESS=Beauty World Centre 144 Upper Bukit Timah Road 588177 Singapore;X-APPLE-RADIUS=500;X-TITLE=144 Upper Bukit Timah Road:geo:103.7763425,1.342311
END:VEVENT
BEGIN:VEVENT
DTSTART;TZID=Asia/Singapore:20240407T090000
DTEND;TZID=Asia/Singapore:20240407T183000
DTSTAMP:20260425T082345
CREATED:20240524T085411Z
LAST-MODIFIED:20240823T074652Z
UID:10000019-1712480400-1712514600@tchs-global.org
SUMMARY:Urban Rooftop Farm - wethefarm
DESCRIPTION:Would you like to do your bit for food security in Singapore? \nRoll up your sleeves and join us on \nSunday\, 7 April 2024\n9:00 a.m. – 11:30 a.m.*\nand/or\n4:30 p.m. – 6:30 p.m.*\n*(you can come any time within this period) \nto work on the urban farm at Level 5 of Beauty World Centre. \nYou will be meeting urban farmers Tan Jing Xiang and Nicholas Chin\, and helping in soil mixing\, planting and composting. \nYou can also bring your veggie scraps and fruit peel for composting\n(but no cooked items or any animal products\, please).
URL:https://tchs-global.org/event/urban-rooftop-farm-wethefarm-070424/
LOCATION:Beauty World Centre\, 144 Upper Bukit Timah Road\, 588177\, Singapore
ATTACH;FMTTYPE=image/jpeg:https://tchs-global.org/wp-content/uploads/2024/06/Urban-Rooftop-Farm-wethefarm-cover.jpg
GEO:1.342311;103.7763425
X-APPLE-STRUCTURED-LOCATION;VALUE=URI;X-ADDRESS=Beauty World Centre 144 Upper Bukit Timah Road 588177 Singapore;X-APPLE-RADIUS=500;X-TITLE=144 Upper Bukit Timah Road:geo:103.7763425,1.342311
END:VEVENT
BEGIN:VEVENT
DTSTART;TZID=Asia/Singapore:20240406T090000
DTEND;TZID=Asia/Singapore:20240406T183000
DTSTAMP:20260425T082345
CREATED:20240524T084850Z
LAST-MODIFIED:20240823T074657Z
UID:10000018-1712394000-1712428200@tchs-global.org
SUMMARY:Urban Rooftop Farm - wethefarm
DESCRIPTION:Would you like to do your bit for food security in Singapore? \nRoll up your sleeves and join us on \nSaturday\, 6 April 2024\n9:00 a.m. – 11:30 a.m.*\nand/or\n4:30 p.m. – 6:30 p.m.*\n*(you can come any time within this period) \nto work on the urban farm at Level 5 of Beauty World Centre. \nYou will be meeting urban farmers Tan Jing Xiang and Nicholas Chin\, and helping in soil mixing\, planting and composting. \nYou can also bring your veggie scraps and fruit peel for composting (but no cooked items or any animal products\, please).
URL:https://tchs-global.org/event/urban-rooftop-farm-wethefarm-060424/
LOCATION:Beauty World Centre\, 144 Upper Bukit Timah Road\, 588177\, Singapore
ATTACH;FMTTYPE=image/jpeg:https://tchs-global.org/wp-content/uploads/2024/06/Urban-Rooftop-Farm-wethefarm-cover.jpg
GEO:1.342311;103.7763425
X-APPLE-STRUCTURED-LOCATION;VALUE=URI;X-ADDRESS=Beauty World Centre 144 Upper Bukit Timah Road 588177 Singapore;X-APPLE-RADIUS=500;X-TITLE=144 Upper Bukit Timah Road:geo:103.7763425,1.342311
END:VEVENT
BEGIN:VEVENT
DTSTART;TZID=Asia/Singapore:20240331T090000
DTEND;TZID=Asia/Singapore:20240331T183000
DTSTAMP:20260425T082345
CREATED:20240524T082857Z
LAST-MODIFIED:20240823T074707Z
UID:10000017-1711875600-1711909800@tchs-global.org
SUMMARY:Urban Rooftop Farm - wethefarm
DESCRIPTION:Would you like to do your bit for food security in Singapore? \nRoll up your sleeves and join us on \nSunday\, 31 March 2024\n9:00 a.m. – 11:30 a.m.*\nand/or\n4:30 p.m. – 6:30 p.m.*\n*(you can come any time within this period) \nto work on the urban farm at Level 5 of Beauty World Centre. \nYou will be meeting urban farmers Tan Jing Xiang and Nicholas Chin\, and helping in soil mixing\, planting and composting. \nYou can also bring your veggie scraps and fruit peel for composting (but no cooked items or any animal products\, please).
URL:https://tchs-global.org/event/urban-rooftop-farm-wethefarm-310324/
LOCATION:Beauty World Centre\, 144 Upper Bukit Timah Road\, 588177\, Singapore
ATTACH;FMTTYPE=image/jpeg:https://tchs-global.org/wp-content/uploads/2024/06/Urban-Rooftop-Farm-wethefarm-cover.jpg
GEO:1.342311;103.7763425
X-APPLE-STRUCTURED-LOCATION;VALUE=URI;X-ADDRESS=Beauty World Centre 144 Upper Bukit Timah Road 588177 Singapore;X-APPLE-RADIUS=500;X-TITLE=144 Upper Bukit Timah Road:geo:103.7763425,1.342311
END:VEVENT
BEGIN:VEVENT
DTSTART;TZID=Asia/Singapore:20240330T090000
DTEND;TZID=Asia/Singapore:20240330T183000
DTSTAMP:20260425T082345
CREATED:20240524T082628Z
LAST-MODIFIED:20240823T074742Z
UID:10000016-1711789200-1711823400@tchs-global.org
SUMMARY:Urban Rooftop Farm - wethefarm
DESCRIPTION:Would you like to do your bit for food security in Singapore? \nRoll up your sleeves and join us on \nSaturday\, 30 March 2024\n9:00 a.m. – 11:30 a.m.*\nand/or\n4:30 p.m. – 6:30 p.m.*\n*(you can come any time within this period) \nto work on the urban farm at Level 5 of Beauty World Centre. \nYou will be meeting urban farmers Tan Jing Xiang and Nicholas Chin\, and helping in soil mixing\, planting and composting. \nYou can also bring your veggie scraps and fruit peel for composting (but no cooked items or any animal products\, please).
URL:https://tchs-global.org/event/urban-rooftop-farm-wethefarm/
LOCATION:Beauty World Centre\, 144 Upper Bukit Timah Road\, 588177\, Singapore
ATTACH;FMTTYPE=image/jpeg:https://tchs-global.org/wp-content/uploads/2024/06/Urban-Rooftop-Farm-wethefarm-cover.jpg
GEO:1.342311;103.7763425
X-APPLE-STRUCTURED-LOCATION;VALUE=URI;X-ADDRESS=Beauty World Centre 144 Upper Bukit Timah Road 588177 Singapore;X-APPLE-RADIUS=500;X-TITLE=144 Upper Bukit Timah Road:geo:103.7763425,1.342311
END:VEVENT
BEGIN:VEVENT
DTSTART;TZID=Asia/Singapore:20240324T090000
DTEND;TZID=Asia/Singapore:20240324T183000
DTSTAMP:20260425T082345
CREATED:20240524T082129Z
LAST-MODIFIED:20240823T074744Z
UID:10000015-1711270800-1711305000@tchs-global.org
SUMMARY:Urban Rooftop Farm - wethefarm
DESCRIPTION:Would you like to do your bit for food security in Singapore? \nRoll up your sleeves and join us on \nSunday\, 24 March 2024\n9:00 a.m. – 11:30 a.m.*\nand/or\n4:30 p.m. – 6:30 p.m.*\n*(you can come any time within this period) \nto work on the urban farm at Level 5 of Beauty World Centre. \nYou will be meeting urban farmers Tan Jing Xiang and Nicholas Chin\, and helping in soil mixing\, planting and composting. \nYou can also bring your veggie scraps and fruit peel for composting (but no cooked items or any animal products\, please).
URL:https://tchs-global.org/event/urban-rooftop-farm-wethefarm-240324/
LOCATION:Beauty World Centre\, 144 Upper Bukit Timah Road\, 588177\, Singapore
ATTACH;FMTTYPE=image/jpeg:https://tchs-global.org/wp-content/uploads/2024/06/Urban-Rooftop-Farm-wethefarm-cover.jpg
GEO:1.342311;103.7763425
X-APPLE-STRUCTURED-LOCATION;VALUE=URI;X-ADDRESS=Beauty World Centre 144 Upper Bukit Timah Road 588177 Singapore;X-APPLE-RADIUS=500;X-TITLE=144 Upper Bukit Timah Road:geo:103.7763425,1.342311
END:VEVENT
BEGIN:VEVENT
DTSTART;TZID=Asia/Singapore:20240323T090000
DTEND;TZID=Asia/Singapore:20240323T183000
DTSTAMP:20260425T082345
CREATED:20240524T081931Z
LAST-MODIFIED:20240823T074750Z
UID:10000014-1711184400-1711218600@tchs-global.org
SUMMARY:Urban Rooftop Farm - wethefarm
DESCRIPTION:Would you like to do your bit for food security in Singapore? \nRoll up your sleeves and join us on \nSaturday\, 23 March 2024\n9:00 a.m. – 11:30 a.m.*\nand/or\n4:30 p.m. – 6:30 p.m.*\n*(you can come any time within this period) \nto work on the urban farm at Level 5 of Beauty World Centre. \nYou will be meeting urban farmers Tan Jing Xiang and Nicholas Chin\, and helping in soil mixing\, planting and composting. \nYou can also bring your veggie scraps and fruit peel for composting (but no cooked items or any animal products\, please).
URL:https://tchs-global.org/event/urban-rooftop-farm-wethefarm-230324/
LOCATION:Beauty World Centre\, 144 Upper Bukit Timah Road\, 588177\, Singapore
ATTACH;FMTTYPE=image/jpeg:https://tchs-global.org/wp-content/uploads/2024/06/Urban-Rooftop-Farm-wethefarm-cover.jpg
GEO:1.342311;103.7763425
X-APPLE-STRUCTURED-LOCATION;VALUE=URI;X-ADDRESS=Beauty World Centre 144 Upper Bukit Timah Road 588177 Singapore;X-APPLE-RADIUS=500;X-TITLE=144 Upper Bukit Timah Road:geo:103.7763425,1.342311
END:VEVENT
BEGIN:VEVENT
DTSTART;TZID=Asia/Singapore:20240303T090000
DTEND;TZID=Asia/Singapore:20240303T183000
DTSTAMP:20260425T082345
CREATED:20240524T081534Z
LAST-MODIFIED:20240823T074757Z
UID:10000013-1709456400-1709490600@tchs-global.org
SUMMARY:Urban Rooftop Farm - wethefarm
DESCRIPTION:Would you like to do your bit for food security in Singapore? \nRoll up your sleeves and join us on \nSunday\, 3 March 2024\n9:00 a.m. – 11:30 a.m.*\nand/or\n4:30 p.m. – 6:30 p.m.*\n*(you can come any time within this period) \nto work on the urban farm at Level 5 of Beauty World Centre. \nYou will be meeting urban farmers Tan Jing Xiang and Nicholas Chin\, and helping in soil mixing\, planting and composting. \nYou can also bring your veggie scraps and fruit peel for composting (but no cooked items or any animal products\, please).
URL:https://tchs-global.org/event/urban-rooftop-farm-wethefarm-030324/
LOCATION:Beauty World Centre\, 144 Upper Bukit Timah Road\, 588177\, Singapore
ATTACH;FMTTYPE=image/jpeg:https://tchs-global.org/wp-content/uploads/2024/06/Urban-Rooftop-Farm-wethefarm-cover.jpg
GEO:1.342311;103.7763425
X-APPLE-STRUCTURED-LOCATION;VALUE=URI;X-ADDRESS=Beauty World Centre 144 Upper Bukit Timah Road 588177 Singapore;X-APPLE-RADIUS=500;X-TITLE=144 Upper Bukit Timah Road:geo:103.7763425,1.342311
END:VEVENT
BEGIN:VEVENT
DTSTART;TZID=Asia/Singapore:20240302T090000
DTEND;TZID=Asia/Singapore:20240302T183000
DTSTAMP:20260425T082345
CREATED:20240524T081128Z
LAST-MODIFIED:20240823T074803Z
UID:10000012-1709370000-1709404200@tchs-global.org
SUMMARY:Urban Rooftop Farm - wethefarm
DESCRIPTION:Would you like to do your bit for food security in Singapore? \nRoll up your sleeves and join us on \nSaturday\, 2 March 2024\n9:00 a.m. – 11:30 a.m.*\nand/or\n4:30 p.m. – 6:30 p.m.*\n*(you can come any time within this period) \nto work on the urban farm at Level 5 of Beauty World Centre. \nYou will be meeting urban farmers Tan Jing Xiang and Nicholas Chin\, and helping in soil mixing\, planting and composting. \nYou can also bring your veggie scraps and fruit peel for composting (but no cooked items or any animal products\, please).
URL:https://tchs-global.org/event/urban-rooftop-farm-wethefarm-020324/
LOCATION:Beauty World Centre\, 144 Upper Bukit Timah Road\, 588177\, Singapore
ATTACH;FMTTYPE=image/jpeg:https://tchs-global.org/wp-content/uploads/2024/06/Urban-Rooftop-Farm-wethefarm-cover.jpg
GEO:1.342311;103.7763425
X-APPLE-STRUCTURED-LOCATION;VALUE=URI;X-ADDRESS=Beauty World Centre 144 Upper Bukit Timah Road 588177 Singapore;X-APPLE-RADIUS=500;X-TITLE=144 Upper Bukit Timah Road:geo:103.7763425,1.342311
END:VEVENT
BEGIN:VEVENT
DTSTART;TZID=Asia/Singapore:20240225T090000
DTEND;TZID=Asia/Singapore:20240225T183000
DTSTAMP:20260425T082345
CREATED:20240522T051651Z
LAST-MODIFIED:20240823T074815Z
UID:10000007-1708851600-1708885800@tchs-global.org
SUMMARY:Urban Rooftop Farm - wethefarm
DESCRIPTION:Would you like to do your bit for food security in Singapore? \nRoll up your sleeves and join us on \nSunday\, 25 February 2024\n9:00 a.m. – 11:30 a.m.*\nand/or\n4:30 p.m. – 6:30 p.m.*\n*(you can come any time within this period) \nto work on the urban farm at Level 5 of Beauty World Centre. \nYou will be meeting urban farmers Tan Jing Xiang and Nicholas Chin\, and helping in soil mixing\, planting and composting. \nYou can also bring your veggie scraps and fruit peel for composting (but no cooked items or any animal products\, please).
URL:https://tchs-global.org/event/urban-rooftop-farm-wethefarm-250224/
LOCATION:Beauty World Centre\, 144 Upper Bukit Timah Road\, 588177\, Singapore
ATTACH;FMTTYPE=image/jpeg:https://tchs-global.org/wp-content/uploads/2024/06/Urban-Rooftop-Farm-wethefarm-cover.jpg
GEO:1.342311;103.7763425
X-APPLE-STRUCTURED-LOCATION;VALUE=URI;X-ADDRESS=Beauty World Centre 144 Upper Bukit Timah Road 588177 Singapore;X-APPLE-RADIUS=500;X-TITLE=144 Upper Bukit Timah Road:geo:103.7763425,1.342311
END:VEVENT
BEGIN:VEVENT
DTSTART;TZID=Asia/Singapore:20240224T090000
DTEND;TZID=Asia/Singapore:20240224T183000
DTSTAMP:20260425T082345
CREATED:20240522T051555Z
LAST-MODIFIED:20240823T074821Z
UID:10000006-1708765200-1708799400@tchs-global.org
SUMMARY:Urban Rooftop Farm - wethefarm
DESCRIPTION:Would you like to do your bit for food security in Singapore? \nRoll up your sleeves and join us on \nSaturday\, 24 February 2024\n9:00 a.m. – 11:30 a.m.*\nand/or\n4:30 p.m. – 6:30 p.m.*\n*(you can come any time within this period) \nto work on the urban farm at Level 5 of Beauty World Centre. \nYou will be meeting urban farmers Tan Jing Xiang and Nicholas Chin\, and helping in soil mixing\, planting and composting. \nYou can also bring your veggie scraps and fruit peel for composting (but no cooked items or any animal products\, please).
URL:https://tchs-global.org/event/urban-rooftop-farm-wethefarm-240224/
LOCATION:Beauty World Centre\, 144 Upper Bukit Timah Road\, 588177\, Singapore
ATTACH;FMTTYPE=image/jpeg:https://tchs-global.org/wp-content/uploads/2024/06/Urban-Rooftop-Farm-wethefarm-cover.jpg
GEO:1.342311;103.7763425
X-APPLE-STRUCTURED-LOCATION;VALUE=URI;X-ADDRESS=Beauty World Centre 144 Upper Bukit Timah Road 588177 Singapore;X-APPLE-RADIUS=500;X-TITLE=144 Upper Bukit Timah Road:geo:103.7763425,1.342311
END:VEVENT
BEGIN:VEVENT
DTSTART;TZID=Asia/Singapore:20240121T090000
DTEND;TZID=Asia/Singapore:20240121T183000
DTSTAMP:20260425T082345
CREATED:20240522T050306Z
LAST-MODIFIED:20240823T074916Z
UID:10000003-1705827600-1705861800@tchs-global.org
SUMMARY:Urban Rooftop Farm - wethefarm
DESCRIPTION:Would you like to do your bit for food security in Singapore? \nRoll up your sleeves and join us on \nSunday\, 21 January 2024\n9:00 a.m. – 11:30 a.m.* and/or 4:30 p.m. – 6:30 p.m.*\n*(you can come any time within this period) \nto work on the urban farm at Level 5 of Beauty World Centre. \nYou will be meeting urban farmers Tan Jing Xiang and Nicholas Chin\, and helping in soil mixing\, planting and composting. \nYou can also bring your veggie scraps and fruit peel for composting (but no cooked items or any animal products\, please).
URL:https://tchs-global.org/event/urban-rooftop-farm-wethefarm-210124/
LOCATION:Beauty World Centre\, 144 Upper Bukit Timah Road\, 588177\, Singapore
ATTACH;FMTTYPE=image/jpeg:https://tchs-global.org/wp-content/uploads/2024/06/Urban-Rooftop-Farm-wethefarm-cover.jpg
GEO:1.342311;103.7763425
X-APPLE-STRUCTURED-LOCATION;VALUE=URI;X-ADDRESS=Beauty World Centre 144 Upper Bukit Timah Road 588177 Singapore;X-APPLE-RADIUS=500;X-TITLE=144 Upper Bukit Timah Road:geo:103.7763425,1.342311
END:VEVENT
BEGIN:VEVENT
DTSTART;TZID=Asia/Singapore:20240120T090000
DTEND;TZID=Asia/Singapore:20240120T183000
DTSTAMP:20260425T082345
CREATED:20240522T050114Z
LAST-MODIFIED:20240823T074925Z
UID:10000002-1705741200-1705775400@tchs-global.org
SUMMARY:Urban Rooftop Farm - wethefarm
DESCRIPTION:Would you like to do your bit for food security in Singapore? \nRoll up your sleeves and join us on \nSaturday\, 20 January 2024\n9:00 a.m. – 11:30 a.m.*\nand/or 4:30 p.m. – 6:30 p.m.*\n*(you can come any time within this period) \nto work on the urban farm at Level 5 of Beauty World Centre. \nYou will be meeting urban farmers\nTan Jing Xiang and Nicholas Chin\,\nand helping in soil mixing\, planting and composting. \nYou can also bring your veggie scraps and fruit peel for composting\n(but no cooked items or any animal products\, please).
URL:https://tchs-global.org/event/urban-rooftop-farm-wethefarm-200124/
LOCATION:Beauty World Centre\, 144 Upper Bukit Timah Road\, 588177\, Singapore
ATTACH;FMTTYPE=image/jpeg:https://tchs-global.org/wp-content/uploads/2024/06/Urban-Rooftop-Farm-wethefarm-cover.jpg
GEO:1.342311;103.7763425
X-APPLE-STRUCTURED-LOCATION;VALUE=URI;X-ADDRESS=Beauty World Centre 144 Upper Bukit Timah Road 588177 Singapore;X-APPLE-RADIUS=500;X-TITLE=144 Upper Bukit Timah Road:geo:103.7763425,1.342311
END:VEVENT
END:VCALENDAR